BEGIN:VCALENDAR
VERSION:2.0
PRODID:-//ChamberMaster//Event Calendar 2.0//EN
METHOD:PUBLISH
X-PUBLISHED-TTL:P3D
REFRESH-INTERVAL:P3D
CALSCALE:GREGORIAN
BEGIN:VEVENT
DTSTART:20171103T230000Z
DTEND:20171104T030000Z
X-MICROSOFT-CDO-ALLDAYEVENT:FALSE
SUMMARY:Southern Soiree
DESCRIPTION:The Lake Travis FFA Alumni would be honored to have you join us at our 2nd annual Southern Soiree. The Soiree will be held Friday\, November 3rd\, 2017 at the very charming Star Hill Ranch in Bee Cave featuring dinner\, open bar\, dancing\, music\, and both a live and silent auction. Proceeds raised will be used to support Lake Travis and other Austin area FFA participants at the Travis County Youth show.
X-ALT-DESC;FMTTYPE=text/html:The Lake Travis FFA Alumni would be honored to have you join us at our 2nd annual Southern Soiree. The Soiree will be held Friday\, November 3rd\, 2017 at the very charming Star Hill Ranch in Bee Cave featuring dinner\, open bar\, dancing\, music\, and both a live and silent auction. Proceeds raised will be used to support Lake Travis and other Austin area FFA participants at the Travis County Youth show.
LOCATION:Star Hill Ranch - 15000 Hamilton Pool Road
UID:e.2123.9501
SEQUENCE:3
DTSTAMP:20260421T080709Z
URL:https://laketravischamberfest.com/events/details/southern-soiree-9501
END:VEVENT

END:VCALENDAR
