BEGIN:VCALENDAR
VERSION:2.0
PRODID:-//ChamberMaster//Event Calendar 2.0//EN
METHOD:PUBLISH
X-PUBLISHED-TTL:P3D
REFRESH-INTERVAL:P3D
CALSCALE:GREGORIAN
BEGIN:VEVENT
DTSTART:20171113T163000Z
DTEND:20171113T173000Z
X-MICROSOFT-CDO-ALLDAYEVENT:FALSE
SUMMARY:Social Security Benefit Options and How They May Influence Your Retirement Decisions
DESCRIPTION:Social Security Benefit Options and How They May Influence Your Retirement Decisions - Monday\, November 13th at 10:30am - This meeting will help you make informed decisions about your Social Security benefit options and how much money you may need to supplement your retirement income. Join Scott Woodruff\, Personal Financial Representative from Allstate for this informative class.
X-ALT-DESC;FMTTYPE=text/html:Social Security Benefit Options and How They May Influence Your Retirement Decisions - Monday\, November 13th at 10:30am - This meeting will help you make informed decisions about your Social Security benefit options and how much money you may need to supplement your retirement income. Join Scott Woodruff\, Personal Financial Representative from Allstate for this informative class.
LOCATION:Lake Travis Community Library 1938 Lohmans Crossing Austin\, Texas 78734
UID:e.2123.9497
SEQUENCE:3
DTSTAMP:20260421T081131Z
URL:https://laketravischamberfest.com/events/details/social-security-benefit-options-and-how-they-may-influence-your-retirement-decisions-9497
END:VEVENT

END:VCALENDAR
