BEGIN:VCALENDAR
VERSION:2.0
PRODID:-//ChamberMaster//Event Calendar 2.0//EN
METHOD:PUBLISH
X-PUBLISHED-TTL:P3D
REFRESH-INTERVAL:P3D
CALSCALE:GREGORIAN
BEGIN:VEVENT
DTSTART:20181023T190000Z
DTEND:20181023T200000Z
X-MICROSOFT-CDO-ALLDAYEVENT:FALSE
SUMMARY:Social Media Basics
DESCRIPTION:Social Media Basics - Tuesday\, October 23rd at 10:30am - This beginner-level course will provide an introduction to the most popular online communities. Learn the basics and how to stay safe with Laura Suelberg\, owner of Lakeway Tech Coach.
X-ALT-DESC;FMTTYPE=text/html:Social Media Basics - Tuesday\, October 23rd at 10:30am - This beginner-level course will provide an introduction to the most popular online communities. Learn the basics and how to stay safe with Laura Suelberg\, owner of Lakeway Tech Coach.
LOCATION:Lake Travis Community Library 1938 Lohmans Crossing Austin\, Texas 78734
UID:e.2123.9724
SEQUENCE:3
DTSTAMP:20260422T010507Z
URL:https://laketravischamberfest.com/events/details/social-media-basics-9724
END:VEVENT

END:VCALENDAR
