BEGIN:VCALENDAR
VERSION:2.0
PRODID:-//ChamberMaster//Event Calendar 2.0//EN
METHOD:PUBLISH
X-PUBLISHED-TTL:P3D
REFRESH-INTERVAL:P3D
CALSCALE:GREGORIAN
BEGIN:VEVENT
DTSTART:20190119T160000Z
DTEND:20190119T220000Z
X-MICROSOFT-CDO-ALLDAYEVENT:FALSE
SUMMARY:Snow Day At the Science Mill
DESCRIPTION:The Science Mill will host its fourth annual family-friendly Snow Day on Saturday\, January 19th! Join the fun as the museum's backyard the Science & Art Park is transformed into a winter wonderland of science with more than 20 tons of snow! Participate in special snow-related science activities and explore 50+ hands-on exhibits and 3D movie!
X-ALT-DESC;FMTTYPE=text/html:The Science Mill will host its fourth annual family-friendly Snow Day on Saturday\, January 19th! Join the fun as the museum&rsquo\;s backyard&mdash\;the Science &amp\; Art Park&mdash\;is transformed into a winter wonderland of science with more than 20 tons of snow! Participate in special snow-related science activities and explore 50+ hands-on exhibits and 3D movie!
LOCATION:Science Mill 101 S. Lady Bird Lane Johnson City\, TX 78636
UID:e.2123.9810
SEQUENCE:3
DTSTAMP:20260422T060143Z
URL:https://laketravischamberfest.com/events/details/snow-day-at-the-science-mill-9810
END:VEVENT

END:VCALENDAR
