BEGIN:VCALENDAR
VERSION:2.0
PRODID:-//ChamberMaster//Event Calendar 2.0//EN
METHOD:PUBLISH
X-PUBLISHED-TTL:P3D
REFRESH-INTERVAL:P3D
CALSCALE:GREGORIAN
BEGIN:VEVENT
DTSTART:20180217T013000Z
DTEND:20180305T033000Z
X-MICROSOFT-CDO-ALLDAYEVENT:FALSE
SUMMARY:Smokey Joe's Cafe
DESCRIPTION:TexARTS Professional Series presents Smokey Joe's Caf - Smokey Joe's Caf  is the hottest joint in town! This Tony Award nominated and Grammy Award winning tribute to legendary songwriters Leiber and Stoller is a dazzling\, song-and-dance celebration of over 40 of rock 'n' roll's greatest hits\, including "HoundDog\," "Stand by Me\," "Yakety Yak\," "Jailhouse Rock\," "Spanish Harlem\," "On Broadway\," "Kansas City\," "Love Potion #9\," "Fools Fall in Love\," and more. The New York Times claims\, "Jerry Leiber and Mike Stoller are the Rogers and Hammerstein of rock 'n' roll!" The New York Daily News calls Smokey Joe's Caf  "wildly infectious\," and Time Magazing says\, "it sails and soars!" Directed by Kimberly Schafer Music Direction by Lyn Koenning
X-ALT-DESC;FMTTYPE=text/html:TexARTS Professional Series presents Smokey Joe&rsquo\;s Caf&eacute\;- Smokey Joe&rsquo\;s Caf&eacute\; is the hottest joint in town! This Tony Award nominated and Grammy Award winning tribute to legendary songwriters Leiber and Stoller is a dazzling\, song-and-dance celebration of over 40 of rock &lsquo\;n&rsquo\; roll&rsquo\;s greatest hits\, including &ldquo\;HoundDog\,&rdquo\; &ldquo\;Stand by Me\,&rdquo\; &ldquo\;Yakety Yak\,&rdquo\; &ldquo\;Jailhouse Rock\,&rdquo\; &ldquo\;Spanish Harlem\,&rdquo\; &ldquo\;On Broadway\,&rdquo\; &ldquo\;Kansas City\,&rdquo\; &ldquo\;Love Potion #9\,&rdquo\; &ldquo\;Fools Fall in Love\,&rdquo\; and more. The New York Times claims\, &ldquo\;Jerry Leiber and Mike Stoller are the Rogers and Hammerstein of rock &lsquo\;n&rsquo\; roll!&rdquo\; The New York Daily News calls Smokey Joe&rsquo\;s Caf&eacute\; &ldquo\;wildly infectious\,&rdquo\; and Time Magazing says\, &ldquo\;it sails and soars!&rdquo\; Directed by Kimberly Schafer Music Direction by Lyn Koenning
LOCATION:TexARTS Association
UID:e.2123.9146
SEQUENCE:3
DTSTAMP:20260421T131830Z
URL:https://laketravischamberfest.com/events/details/smokey-joe-s-cafe-9146
END:VEVENT

END:VCALENDAR
