BEGIN:VCALENDAR
VERSION:2.0
PRODID:-//ChamberMaster//Event Calendar 2.0//EN
METHOD:PUBLISH
X-PUBLISHED-TTL:P3D
REFRESH-INTERVAL:P3D
CALSCALE:GREGORIAN
BEGIN:VEVENT
DTSTART:20180216T013000Z
DTEND:20180305T033000Z
X-MICROSOFT-CDO-ALLDAYEVENT:FALSE
SUMMARY:Smokey Joe's Cafe
DESCRIPTION:This tribute to legendary songwriters Leiber and Stoller is a dazzling\, song-and-dance celebration featuring 40 of rock 'n' roll's greatest hits\, including "Hound Dog\," "Stand by Me\," "Yakety Yak\," "Jailhouse Rock\," "Spanish Harlem\," "On Broadway\," "Kansas City\," "Love Potion #9\," and "Fools Fall in Love." Smokey Joe's Caf  plays on stage February 15   March 4 at the
X-ALT-DESC;FMTTYPE=text/html:This tribute to legendary songwriters Leiber and Stoller is a dazzling\, song-and-dance celebration featuring 40 of rock &#39\;n&#39\; roll&#39\;s greatest hits\, including &quot\;Hound Dog\,&quot\; &quot\;Stand by Me\,&quot\; &quot\;Yakety Yak\,&quot\; &quot\;Jailhouse Rock\,&quot\; &quot\;Spanish Harlem\,&quot\; &quot\;On Broadway\,&quot\; &quot\;Kansas City\,&quot\; &quot\;Love Potion #9\,&quot\; and &quot\;Fools Fall in Love.&quot\; Smokey Joe&rsquo\;s Caf&eacute\; plays on stage February 15 &ndash\; March 4 at the
LOCATION:TexARTS Kam & James Morris Theatre 2300 Lohman's Spur\, STE 160 Lakeway\, TX 78734
UID:e.2123.9558
SEQUENCE:3
DTSTAMP:20260421T132158Z
URL:https://laketravischamberfest.com/events/details/smokey-joe-s-cafe-02-15-2018-9558
END:VEVENT

END:VCALENDAR
