BEGIN:VCALENDAR
VERSION:2.0
PRODID:-//ChamberMaster//Event Calendar 2.0//EN
METHOD:PUBLISH
X-PUBLISHED-TTL:P3D
REFRESH-INTERVAL:P3D
CALSCALE:GREGORIAN
BEGIN:VEVENT
DTSTART:20190526T170000Z
DTEND:20190526T210000Z
X-MICROSOFT-CDO-ALLDAYEVENT:FALSE
SUMMARY:SlimePOP
DESCRIPTION:What is SlimePOP\, you ask??? A slime convention...that's right\, we said slime. If you have a kiddo between 8-13\, you might know what we're talking about\, but if you don't just look up #slime on Instagram\, and you'll see more than 11 million posts. Visit slimepopevents.com for more information. We can't wait to see you there!
X-ALT-DESC;FMTTYPE=text/html:What is SlimePOP\, you ask??? A slime convention...that&#39\;s right\, we said slime. If you have a kiddo between 8-13\, you might know what we&#39\;re talking about\, but if you don&#39\;t just look up #slime on Instagram\, and you&#39\;ll see more than 11 million posts. Visit slimepopevents.com for more information. We can&#39\;t wait to see you there!
LOCATION:Palmer Events Center 900 Barton Springs Rd Austin\, TX 78704
UID:e.2123.9849
SEQUENCE:3
DTSTAMP:20260422T121332Z
URL:https://laketravischamberfest.com/events/details/slimepop-9849
END:VEVENT

END:VCALENDAR
