BEGIN:VCALENDAR
VERSION:2.0
PRODID:-//ChamberMaster//Event Calendar 2.0//EN
METHOD:PUBLISH
X-PUBLISHED-TTL:P3D
REFRESH-INTERVAL:P3D
CALSCALE:GREGORIAN
BEGIN:VEVENT
DTSTART:20181212T233000Z
DTEND:20181213T013000Z
X-MICROSOFT-CDO-ALLDAYEVENT:FALSE
SUMMARY:SKU 7 Informational Happy Hour
DESCRIPTION:Calling emerging CPG brands! Looking to scale up your emerging Consumer Product Goods company? Join us for an evening of mixing and mingling with the amazing SKU mentors and team and learn more about the upcoming SKU 7 track and take your business to the next level!
X-ALT-DESC;FMTTYPE=text/html:Calling emerging CPG brands! Looking to scale up your emerging Consumer Product Goods company? Join us for an evening of mixing and mingling with the amazing SKU mentors and team and learn more about the upcoming SKU 7 track and take your business to the next level!
LOCATION:Infinite Monkey Theorem 121 Pickle Rd #110\, Austin\, TX 78704
UID:e.2123.9797
SEQUENCE:3
DTSTAMP:20260422T042901Z
URL:https://laketravischamberfest.com/events/details/sku-7-informational-happy-hour-9797
END:VEVENT

END:VCALENDAR
