BEGIN:VCALENDAR
VERSION:2.0
PRODID:-//ChamberMaster//Event Calendar 2.0//EN
METHOD:PUBLISH
X-PUBLISHED-TTL:P3D
REFRESH-INTERVAL:P3D
CALSCALE:GREGORIAN
BEGIN:VEVENT
DTSTART:20230611T210000Z
DTEND:20230612T010000Z
X-MICROSOFT-CDO-ALLDAYEVENT:FALSE
SUMMARY:Sip & Sway: TexARTS Benefit Concert
DESCRIPTION:Please join us in sipping and swaying your way through TexARTS' Summer Benefit Concert at the Iron Wolf Ranch and Distillery! Featuring performances by Bob Schneider\, Rock ATX\, and our very own TexARTS students\, this concert will have hours of performances to keep you and your family entertained all day long. Plus\, we are excited to present many family-friendly crafts and activities for the kids to enjoy. You will also be able to purchase food and drinks from local Austin food vendors throughout the event. Featuring: It's All Good BBQ\, Phoenix Grill and more. Finally\, we will be presenting a silent auction and raffle to benefit TexARTS. Your Tax Deductible Contribution Supports Arts Education and Professional Theater Programs in our Community! We are so excited to see you on June 11th from 2-8 PM! Doors will open at 2 PM. General Admission will not include seating\, so make sure to bring lawn chairs and blankets for you and your family to sit back and enjoy (chairs should be short concert lawn chairs\, 32 in max. height)!
X-ALT-DESC;FMTTYPE=text/html:Please join us in sipping and swaying your way through TexARTS&rsquo\; Summer Benefit Concert at the Iron Wolf Ranch and Distillery! Featuring performances by Bob Schneider\, Rock ATX\, and our very own TexARTS students\, this concert will have hours of performances to keep you and your family entertained all day long. Plus\, we are excited to present many family-friendly crafts and activities for the kids to enjoy. You will also be able to purchase food and drinks from local Austin food vendors throughout the event. Featuring: It&#39\;s All Good BBQ\, Phoenix Grill and more. Finally\, we will be presenting a silent auction and raffle to benefit TexARTS. Your Tax Deductible Contribution Supports Arts Education and Professional Theater Programs in our Community! We are so excited to see you on June 11th from 2-8 PM! Doors will open at 2 PM. General Admission will not include seating\, so make sure to bring lawn chairs and blankets for you and your family to sit back and enjoy (chairs should be short concert lawn chairs\, 32 in max. height)!
LOCATION:Iron Wolf Ranch & Distillery
UID:e.2123.11748
SEQUENCE:3
DTSTAMP:20260423T040804Z
URL:https://laketravischamberfest.com/events/details/sip-sway-texarts-benefit-concert-11748
END:VEVENT

END:VCALENDAR
