BEGIN:VCALENDAR
VERSION:2.0
PRODID:-//ChamberMaster//Event Calendar 2.0//EN
METHOD:PUBLISH
X-PUBLISHED-TTL:P3D
REFRESH-INTERVAL:P3D
CALSCALE:GREGORIAN
BEGIN:VEVENT
DTSTART:20181208T180000Z
DTEND:20181208T230000Z
X-MICROSOFT-CDO-ALLDAYEVENT:FALSE
SUMMARY:SIP\, SNACK\, SHOP! El Gaucho Winery’s Holiday Fiesta Pop-Up
DESCRIPTION:We've gathered together our favorite artisan's and neighbors for an afternoon of shopping and live music by Michael Samuels! Our holiday pop up shop will include unique finds\, foodie favorites\, hand crafted apparel\, leather goods and more. Find something for everyone on your shopping list from retailers such as My Chocolate Kit\, Evelyn Jaymes\, Shavanthe\, Colours In your Life\, Color Street Nails\, Shop Cosette\, Little Hollow and more! Each shop will donate to our live auction benefiting http://www.helpinghandspicewood.org/ Of course\, El Gaucho wines and selections from our bistro menu will be available for purchase. For more information visit https://elgauchowinery.com
X-ALT-DESC;FMTTYPE=text/html:We&rsquo\;ve gathered together our favorite artisan&rsquo\;s and neighbors for an afternoon of shopping and live music by Michael Samuels! Our holiday pop up shop will include unique finds\, foodie favorites\, hand crafted apparel\, leather goods and more. Find something for everyone on your shopping list from retailers such as My Chocolate Kit\, Evelyn Jaymes\, Shavanthe\, Colours In your Life\, Color Street Nails\, Shop Cosette\, Little Hollow and more! Each shop will donate to our live auction benefiting http://www.helpinghandspicewood.org/ Of course\, El Gaucho wines and selections from our bistro menu will be available for purchase. For more information visit https://elgauchowinery.com
LOCATION:21301 Kathy Ln Spicewood\, TX 78669
UID:e.2123.9795
SEQUENCE:3
DTSTAMP:20260422T043316Z
URL:https://laketravischamberfest.com/events/details/sip-snack-shop-el-gaucho-winery-s-holiday-fiesta-pop-up-9795
END:VEVENT

END:VCALENDAR
