BEGIN:VCALENDAR
VERSION:2.0
PRODID:-//ChamberMaster//Event Calendar 2.0//EN
METHOD:PUBLISH
X-PUBLISHED-TTL:P3D
REFRESH-INTERVAL:P3D
CALSCALE:GREGORIAN
BEGIN:VEVENT
DTSTART:20180622T230000Z
DTEND:20180624T190000Z
X-MICROSOFT-CDO-ALLDAYEVENT:FALSE
SUMMARY:Shrek the Musical Jr.
DESCRIPTION:Shrek the Musical Jr. is the perfect way to spend a hot afternoon with the whole family. Come to TexArts and experience the whimsical movie come to life on stage with vibrant costumes\, singing\, and dancing.
X-ALT-DESC;FMTTYPE=text/html:Shrek the Musical Jr. is the perfect way to spend a hot afternoon with the whole family. Come to TexArts and experience the whimsical movie come to life on stage with vibrant costumes\, singing\, and dancing.
LOCATION:TexArts Lakeway TX 78734 2300 Lohman's spur st. 160
UID:e.2123.9669
SEQUENCE:3
DTSTAMP:20260421T205950Z
URL:https://laketravischamberfest.com/events/details/shrek-the-musical-jr-9669
END:VEVENT

END:VCALENDAR
