BEGIN:VCALENDAR
VERSION:2.0
PRODID:-//ChamberMaster//Event Calendar 2.0//EN
METHOD:PUBLISH
X-PUBLISHED-TTL:P3D
REFRESH-INTERVAL:P3D
CALSCALE:GREGORIAN
BEGIN:VEVENT
DTSTART:20181117T010000Z
DTEND:20181117T033000Z
X-MICROSOFT-CDO-ALLDAYEVENT:FALSE
SUMMARY:Shinyribs Plays Spicewood
DESCRIPTION:Shinyribs mixes all types of American music with its own blend of "country-soul\, swamp funk and tickle." From a one-man side project\, founder Kevin Russell built Shinyribs into a full band of artists who bring Russell's poetic lyrics to musical life. Featuring Winfield Cheek\, keyboards\, Keith Langford\, drums\, Jeff Brown\, bass\, the Tijuana Trainwreck Horns\, Mark Wilson and Tiger Anaya\, and The Shiny Soul Sisters   Kelley Mickwee and Alice Spencer. Not to be missed.
X-ALT-DESC;FMTTYPE=text/html:Shinyribs mixes all types of American music with its own blend of &ldquo\;country-soul\, swamp funk and tickle.&rdquo\; From a one-man side project\, founder Kevin Russell built Shinyribs into a full band of artists who bring Russell&rsquo\;s poetic lyrics to musical life. Featuring Winfield Cheek\, keyboards\, Keith Langford\, drums\, Jeff Brown\, bass\, the Tijuana Trainwreck Horns\, Mark Wilson and Tiger Anaya\, and The Shiny Soul Sisters &ndash\; Kelley Mickwee and Alice Spencer. Not to be missed.
LOCATION:Spicewood Vineyards Event Center
UID:e.2123.9753
SEQUENCE:3
DTSTAMP:20260422T024329Z
URL:https://laketravischamberfest.com/events/details/shinyribs-plays-spicewood-9753
END:VEVENT

END:VCALENDAR
