BEGIN:VCALENDAR
VERSION:2.0
PRODID:-//ChamberMaster//Event Calendar 2.0//EN
METHOD:PUBLISH
X-PUBLISHED-TTL:P3D
REFRESH-INTERVAL:P3D
CALSCALE:GREGORIAN
BEGIN:VEVENT
DTSTART:20180428T190000Z
DTEND:20180506T230000Z
X-MICROSOFT-CDO-ALLDAYEVENT:FALSE
SUMMARY:Seussical Jr.
DESCRIPTION:The Cat in the Hat tells the story of Horton\, an elephant who discovers a speck of dust containing Whos\, including Jojo\, a Who child who gets in trouble for thinking too many "thinks." Horton faces a double challenge--not only must he protect the Whos from a world of naysayers and dangers\, but he must guard an abandoned egg\, left to his care by the irresponsible Mayzie La Bird. Although Horton faces ridicule\, danger\, kidnapping\, and a trial\, the intrepid Gertrude McFuzz never loses faith in him.Ultimately\, the powers of friendship\, loyalty\, family\, and community are challenged and emerge triumphant! Starring the TexARTS Youth Musical Theatre Academy Students and directed by Cassie Eckerman
X-ALT-DESC;FMTTYPE=text/html:The Cat in the Hat tells the story of Horton\, an elephant who discovers a speck of dust containing Whos\, including Jojo\, a Who child who gets in trouble for thinking too many &quot\;thinks.&quot\; Horton faces a double challenge--not only must he protect the Whos from a world of naysayers and dangers\, but he must guard an abandoned egg\, left to his care by the irresponsible Mayzie La Bird. Although Horton faces ridicule\, danger\, kidnapping\, and a trial\, the intrepid Gertrude McFuzz never loses faith in him.Ultimately\, the powers of friendship\, loyalty\, family\, and community are challenged and emerge triumphant! Starring the TexARTS Youth Musical Theatre Academy Students and directed by Cassie Eckerman
LOCATION:TexARTS 2300 Lohmans Spur\, Suite 160\, Austin\, Texas 78734
UID:e.2123.9613
SEQUENCE:3
DTSTAMP:20260421T161419Z
URL:https://laketravischamberfest.com/events/details/seussical-jr-9613
END:VEVENT

END:VCALENDAR
