BEGIN:VCALENDAR
VERSION:2.0
PRODID:-//ChamberMaster//Event Calendar 2.0//EN
METHOD:PUBLISH
X-PUBLISHED-TTL:P3D
REFRESH-INTERVAL:P3D
CALSCALE:GREGORIAN
BEGIN:VEVENT
DTSTART:20231104T190000Z
DTEND:20231104T210000Z
X-MICROSOFT-CDO-ALLDAYEVENT:FALSE
SUMMARY:SERENADE of GRATITUDE
DESCRIPTION:Please join us in acknowledging and expressing our sincere Appreciation and Gratitude to all Family Caregivers. Family Caregivers\, family & friends are cordially invited to a memorable afternoon of camaraderie & Joyful Noise! LIVE Music\, Dancing\, Appetizers\, Beverages\, Door Prizes Reserve your FREE ticket: https://www.eventbrite.com/e/643860142017.
X-ALT-DESC;FMTTYPE=text/html:Please join us in acknowledging and expressing our sincere Appreciation and Gratitude to all Family Caregivers. Family Caregivers\, family &amp\; friends are cordially invited to a memorable afternoon of camaraderie &amp\; Joyful Noise! LIVE Music\, Dancing\, Appetizers\, Beverages\, Door Prizes Reserve your FREE ticket: https://www.eventbrite.com/e/643860142017.
LOCATION:Lakeway Activity Center 105 Cross Creek\, Lakeway\, TX 78734
UID:e.2123.11784
SEQUENCE:3
DTSTAMP:20260422T205210Z
URL:https://laketravischamberfest.com/events/details/serenade-of-gratitude-11784
END:VEVENT

END:VCALENDAR
