BEGIN:VCALENDAR
VERSION:2.0
PRODID:-//ChamberMaster//Event Calendar 2.0//EN
METHOD:PUBLISH
X-PUBLISHED-TTL:P3D
REFRESH-INTERVAL:P3D
CALSCALE:GREGORIAN
BEGIN:VEVENT
DTSTART:20180823T153000Z
DTEND:20180823T163000Z
X-MICROSOFT-CDO-ALLDAYEVENT:FALSE
SUMMARY:Senior Living Options: Making the Right Choice
DESCRIPTION:Senior Living Options: Making the Right Choice - Thursday\, August 23rd at 10:30am - Learn the difference between 55+ communities\, independent living\, assisted living\, personal care homes\, and memory care facilities. Which one is right for you and your loved ones?
X-ALT-DESC;FMTTYPE=text/html:Senior Living Options: Making the Right Choice - Thursday\, August 23rd at 10:30am - Learn the difference between 55+ communities\, independent living\, assisted living\, personal care homes\, and memory care facilities. Which one is right for you and your loved ones?
LOCATION:Lake Travis Community Library 1938 Lohmans Crossing Austin\, Texas 78734
UID:e.2123.9685
SEQUENCE:3
DTSTAMP:20260421T222224Z
URL:https://laketravischamberfest.com/events/details/senior-living-options-making-the-right-choice-9685
END:VEVENT

END:VCALENDAR
