BEGIN:VCALENDAR
VERSION:2.0
PRODID:-//ChamberMaster//Event Calendar 2.0//EN
METHOD:PUBLISH
X-PUBLISHED-TTL:P3D
REFRESH-INTERVAL:P3D
CALSCALE:GREGORIAN
BEGIN:VEVENT
DTSTART:20191219T150000Z
DTEND:20191219T220000Z
X-MICROSOFT-CDO-ALLDAYEVENT:FALSE
SUMMARY:Senior Community Health Screening
DESCRIPTION:Lakeway Activity Center is hosting Life Line Screening\, the nation's leading provider of preventive health screenings on Thursday\, December 19\, 2019. The screenings offer a 5 test package to thoroughly check you for risk of stroke\, cardiovascular disease and other chronic conditions. The combination of these tests help detect problems   before you have symptoms and while your doctor can still take action   so you can keep doing the things you love. Call today to register! 800-690-0323
X-ALT-DESC;FMTTYPE=text/html:Lakeway Activity Center is hosting Life Line Screening\, the nation&rsquo\;s leading provider of preventive health screenings on Thursday\, December 19\, 2019. The screenings offer a 5 test package to thoroughly check you for risk of stroke\, cardiovascular disease and other chronic conditions. The combination of these tests help detect problems &ndash\; before you have symptoms and while your doctor can still take action &hellip\; so you can keep doing the things you love. Call today to register! 800-690-0323
LOCATION:105 Cross Creek\, Lakeway\, TX 78734
UID:e.2123.10024
SEQUENCE:3
DTSTAMP:20260422T225613Z
URL:https://laketravischamberfest.com/events/details/senior-community-health-screening-10024
END:VEVENT

END:VCALENDAR
