BEGIN:VCALENDAR
VERSION:2.0
PRODID:-//ChamberMaster//Event Calendar 2.0//EN
METHOD:PUBLISH
X-PUBLISHED-TTL:P3D
REFRESH-INTERVAL:P3D
CALSCALE:GREGORIAN
BEGIN:VEVENT
DTSTART:20180322T170000Z
DTEND:20180328T170000Z
X-MICROSOFT-CDO-ALLDAYEVENT:FALSE
SUMMARY:Senior Art Exhibition
DESCRIPTION:The Sarofim School of Fine Arts' Studio Art Department is excited to present the opening of the first Senior Art Exhibition this spring in the Sarofim Fine Arts Gallery. Each year\, senior studio art students curate their own final exhibit using the tools they have gathered throughout their time at Southwestern University. Join us for an artist reception with Kaitlin Murray and Sebastian Chen as we celebrate the presentation of their work.
X-ALT-DESC;FMTTYPE=text/html:The Sarofim School of Fine Arts&rsquo\; Studio Art Department is excited to present the opening of the first Senior Art Exhibition this spring in the Sarofim Fine Arts Gallery. Each year\, senior studio art students curate their own final exhibit using the tools they have gathered throughout their time at Southwestern University. Join us for an artist reception with Kaitlin Murray and Sebastian Chen as we celebrate the presentation of their work.
LOCATION:Southwestern University's Sarofim Fine Arts Gallery\, E. Rutersville Rd\, Georgetown\, TX\, 78626
UID:e.2123.9564
SEQUENCE:3
DTSTAMP:20260421T144408Z
URL:https://laketravischamberfest.com/events/details/senior-art-exhibition-9564
END:VEVENT

END:VCALENDAR
