BEGIN:VCALENDAR
VERSION:2.0
PRODID:-//ChamberMaster//Event Calendar 2.0//EN
METHOD:PUBLISH
X-PUBLISHED-TTL:P3D
REFRESH-INTERVAL:P3D
CALSCALE:GREGORIAN
BEGIN:VEVENT
DTSTART:20190525T150000Z
DTEND:20190525T210000Z
X-MICROSOFT-CDO-ALLDAYEVENT:FALSE
SUMMARY:Science Mill's Memorial Day Scavenger Hunt
DESCRIPTION:May 25-27\, 2019 Memorial Day Scavenger Hunt The Science Mill is looking for some real-life superheroes in its Memorial Day Scavenger Hunt! Round up your super friends and take on this self-guided challenge together\; all you need are your Spidey Sense STEM skills and a cell phone\, and you'll discover some real life STEM heroes along the way. Superhero costumes (your favorite real-life or self-created hero) are optional\, but encouraged! Contact: info@sciencemill.org Location: Science Mill\, 101 S. Lady Bird Lane\, Johnson City\, Texas 78636 Admission: 0-2 years old   free\, 3-18 (or with student ID) $9.50\, Adults $11\, Seniors (65+) $9 and Military $5.50 Hours: 10am - 4pm Event Website: https://www.sciencemill.org/upcoming-events-1
X-ALT-DESC;FMTTYPE=text/html:May 25-27\, 2019 Memorial Day Scavenger Hunt The Science Mill is looking for some real-life superheroes in its Memorial Day Scavenger Hunt! Round up your super friends and take on this self-guided challenge together\; all you need are your Spidey Sense STEM skills and a cell phone\, and you&rsquo\;ll discover some real life STEM heroes along the way. Superhero costumes (your favorite real-life or self-created hero) are optional\, but encouraged! Contact: info@sciencemill.org Location: Science Mill\, 101 S. Lady Bird Lane\, Johnson City\, Texas 78636 Admission: 0-2 years old &ndash\; free\, 3-18 (or with student ID) $9.50\, Adults $11\, Seniors (65+) $9 and Military $5.50 Hours: 10am - 4pm Event Website: https://www.sciencemill.org/upcoming-events-1
LOCATION:Science Mill 101 S. Lady Bird Lane Johnson City\, TX 78636
UID:e.2123.9885
SEQUENCE:3
DTSTAMP:20260422T121730Z
URL:https://laketravischamberfest.com/events/details/science-mill-s-memorial-day-scavenger-hunt-9885
END:VEVENT

END:VCALENDAR
