BEGIN:VCALENDAR
VERSION:2.0
PRODID:-//ChamberMaster//Event Calendar 2.0//EN
METHOD:PUBLISH
X-PUBLISHED-TTL:P3D
REFRESH-INTERVAL:P3D
CALSCALE:GREGORIAN
BEGIN:VEVENT
DTSTART:20190213T160000Z
DTEND:20190213T200000Z
X-MICROSOFT-CDO-ALLDAYEVENT:FALSE
SUMMARY:Science Mill's Homeschool Day
DESCRIPTION:Feb. 13\, 2019 Homeschool Day Join the Science Mill for its monthly Homeschool Day and focus on careers in engineering. In special hands-on activities\, students can use the Strawbees system to engineer their own creations\, make a mountain rescue litter\, and create a pom pom launcher with materials from a mystery bag. Plus\, students can attend optional age-based Learning Labs and explore the museum's 50+ unique exhibits and 3D movie.
X-ALT-DESC;FMTTYPE=text/html:Feb. 13\, 2019 Homeschool Day Join the Science Mill for its monthly Homeschool Day and focus on careers in engineering. In special hands-on activities\, students can use the Strawbees system to engineer their own creations\, make a mountain rescue litter\, and create a pom pom launcher with materials from a mystery bag. Plus\, students can attend optional age-based Learning Labs and explore the museum&rsquo\;s 50+ unique exhibits and 3D movie.
LOCATION:Science Mill 101 South Lady Bird Lane Johnson City\, TX 78636
UID:e.2123.9818
SEQUENCE:3
DTSTAMP:20260422T072105Z
URL:https://laketravischamberfest.com/events/details/science-mill-s-homeschool-day-9818
END:VEVENT

END:VCALENDAR
