BEGIN:VCALENDAR
VERSION:2.0
PRODID:-//ChamberMaster//Event Calendar 2.0//EN
METHOD:PUBLISH
X-PUBLISHED-TTL:P3D
REFRESH-INTERVAL:P3D
CALSCALE:GREGORIAN
BEGIN:VEVENT
DTSTART:20190216T160000Z
DTEND:20190216T220000Z
X-MICROSOFT-CDO-ALLDAYEVENT:FALSE
SUMMARY:Science Mill's Greenhouse Aquaponics Grand Opening
DESCRIPTION:Join the Science Mill for the grand opening of its new Aquaponics Greenhouse and the celebration of its fourth birthday! Explore the new 1\,000-foot greenhouse\, a working aquaponics system where visitors can see how fish\, plants and microbes work together to create healthy food\, and participate in presentations\, activities and games that highlight the intersection of technology and biology. Visitors can also explore all of the Science Mill's mesmerizing exhibits\, see a 3D movie and win prizes. All grand opening activities\, demos\, speakers and games are included with Science Mill admission.
X-ALT-DESC;FMTTYPE=text/html:Join the Science Mill for the grand opening of its new Aquaponics Greenhouse and the celebration of its fourth birthday! Explore the new 1\,000-foot greenhouse\, a working aquaponics system where visitors can see how fish\, plants and microbes work together to create healthy food\, and participate in presentations\, activities and games that highlight the intersection of technology and biology. Visitors can also explore all of the Science Mill&#39\;s mesmerizing exhibits\, see a 3D movie and win prizes. All grand opening activities\, demos\, speakers and games are included with Science Mill admission.
LOCATION:Science Mill 101 South Lady Bird Lane Johnson City\, TX 78636
UID:e.2123.9819
SEQUENCE:3
DTSTAMP:20260422T072744Z
URL:https://laketravischamberfest.com/events/details/science-mill-s-greenhouse-aquaponics-grand-opening-9819
END:VEVENT

END:VCALENDAR
