BEGIN:VCALENDAR
VERSION:2.0
PRODID:-//ChamberMaster//Event Calendar 2.0//EN
METHOD:PUBLISH
X-PUBLISHED-TTL:P3D
REFRESH-INTERVAL:P3D
CALSCALE:GREGORIAN
BEGIN:VEVENT
DTSTART:20171115T013000Z
DTEND:20171115T033000Z
X-MICROSOFT-CDO-ALLDAYEVENT:FALSE
SUMMARY:Sarofim Music Series: TEMP-Texas Early Music Project
DESCRIPTION:TEMP (Texas Early Music Project)\, started as a way to allow students to explore repertoire normally out of their reach\, has expanded into an ensemble of vocalist and instrumentalists who strive to preserve and advance the art of Medieval\, Renaissance\, Baroque and early Classical music through performance\, recording\, and educational outreach. TEMP's season offers a variety of musical selections to engage the modern ear with classical and timeless music.
X-ALT-DESC;FMTTYPE=text/html:TEMP (Texas Early Music Project)\, started as a way to allow students to explore repertoire normally out of their reach\, has expanded into an ensemble of vocalist and instrumentalists who strive to preserve and advance the art of Medieval\, Renaissance\, Baroque and early Classical music through performance\, recording\, and educational outreach. TEMP&rsquo\;s season offers a variety of musical selections to engage the modern ear with classical and timeless music.
LOCATION:Alma Thomas Theater\, Southwestern University's Sarofim School of Fine Arts
UID:e.2123.9478
SEQUENCE:3
DTSTAMP:20260421T083643Z
URL:https://laketravischamberfest.com/events/details/sarofim-music-series-temp-texas-early-music-project-9478
END:VEVENT

END:VCALENDAR
