BEGIN:VCALENDAR
VERSION:2.0
PRODID:-//ChamberMaster//Event Calendar 2.0//EN
METHOD:PUBLISH
X-PUBLISHED-TTL:P3D
REFRESH-INTERVAL:P3D
CALSCALE:GREGORIAN
BEGIN:VEVENT
DTSTART:20180323T003000Z
DTEND:20180323T023000Z
X-MICROSOFT-CDO-ALLDAYEVENT:FALSE
SUMMARY:Sarofim Music Series: Susanne Mentzer\, mezzo-soprano
DESCRIPTION:The Music department is pleased to present mezzo-soprano Susanne Mentzer. Enjoying a significant opera\, concert\, chamber music and recital career of over thirty years\, Mentzer has appeared on four continents with nearly every great opera house and orchestra. She has been a guest artist at the Metropolitan Opera in leading roles since 1989. Opera News praises that\, "Her rich\, vibrant sound retains its warmth from top to bottom and throughout its broad dynamic range... She draws the listener into the spirit of each song with a deep internal connection."
X-ALT-DESC;FMTTYPE=text/html:The Music department is pleased to present mezzo-soprano Susanne Mentzer. Enjoying a significant opera\, concert\, chamber music and recital career of over thirty years\, Mentzer has appeared on four continents with nearly every great opera house and orchestra. She has been a guest artist at the Metropolitan Opera in leading roles since 1989. Opera News praises that\, &ldquo\;Her rich\, vibrant sound retains its warmth from top to bottom and throughout its broad dynamic range... She draws the listener into the spirit of each song with a deep internal connection.&rdquo\;
LOCATION:Southwestern University's Alma Thomas Theater\, E. Rutersville Rd\, Georgetown\, TX\, 78626
UID:e.2123.9565
SEQUENCE:3
DTSTAMP:20260421T145042Z
URL:https://laketravischamberfest.com/events/details/sarofim-music-series-susanne-mentzer-mezzo-soprano-9565
END:VEVENT

END:VCALENDAR
