BEGIN:VCALENDAR
VERSION:2.0
PRODID:-//ChamberMaster//Event Calendar 2.0//EN
METHOD:PUBLISH
X-PUBLISHED-TTL:P3D
REFRESH-INTERVAL:P3D
CALSCALE:GREGORIAN
BEGIN:VEVENT
DTSTART:20180227T230000Z
DTEND:20180228T033000Z
X-MICROSOFT-CDO-ALLDAYEVENT:FALSE
SUMMARY:Sarofim Music Series: Links
DESCRIPTION:Made up of brothers R mi and Laurent Durupt\, Links is a duo of young artists promoting contemporary experimental shows through percussion and piano. With R mi playing percussion and Laurent on piano\, the two artists combine the elegance of the later with the enchanting magic of percussion to engage audiences by challenging their perspective of music. Both members have received international recognition for their unique work. The juxtaposing musical instruments weave together in a complicit manner that brings intriguing and experimental music to audiences.
X-ALT-DESC;FMTTYPE=text/html:Made up of brothers R&eacute\;mi and Laurent Durupt\, Links is a duo of young artists promoting contemporary experimental shows through percussion and piano. With R&eacute\;mi playing percussion and Laurent on piano\, the two artists combine the elegance of the later with the enchanting magic of percussion to engage audiences by challenging their perspective of music. Both members have received international recognition for their unique work. The juxtaposing musical instruments weave together in a complicit manner that brings intriguing and experimental music to audiences.
LOCATION:Southwestern University's Caldwell-Carvey Foyer\, E. Ruttersville Dr\, Georgetown\, TX\, 78626.
UID:e.2123.9555
SEQUENCE:3
DTSTAMP:20260421T144038Z
URL:https://laketravischamberfest.com/events/details/sarofim-music-series-links-9555
END:VEVENT

END:VCALENDAR
