BEGIN:VCALENDAR
VERSION:2.0
PRODID:-//ChamberMaster//Event Calendar 2.0//EN
METHOD:PUBLISH
X-PUBLISHED-TTL:P3D
REFRESH-INTERVAL:P3D
CALSCALE:GREGORIAN
BEGIN:VEVENT
DTSTART:20180306T180000Z
DTEND:20180306T180000Z
X-MICROSOFT-CDO-ALLDAYEVENT:FALSE
SUMMARY:Sarofim Music Series: Lara Downes\, piano
DESCRIPTION:Lara Downes is an iconoclastic pianist whose artistry has been called "luscious\, moody and dreamy" by the New York Times and "ravishing" by Fanfare Magazine. Downes' performances have taken her across the country to some of the most prestigious venues\, including New York City's Carnegie Hall\, the Kennedy Center\, Le Poisson Rouge and Yoshi's in San Francisco. She strives to connect music to a wide range of human experiences and to express the diversity of American history and American dreams. The HuffingtonPost has called her unique style "addicting   Downes plays with an open\, honest heart." Join the Music Department as Downes presents Sounds Like America.
X-ALT-DESC;FMTTYPE=text/html:Lara Downes is an iconoclastic pianist whose artistry has been called &quot\;luscious\, moody and dreamy&quot\; by the New York Times and &quot\;ravishing&quot\; by Fanfare Magazine. Downes&rsquo\; performances have taken her across the country to some of the most prestigious venues\, including New York City&rsquo\;s Carnegie Hall\, the Kennedy Center\, Le Poisson Rouge and Yoshi&rsquo\;s in San Francisco. She strives to connect music to a wide range of human experiences and to express the diversity of American history and American dreams. The HuffingtonPost has called her unique style &ldquo\;addicting &ndash\; Downes plays with an open\, honest heart.&rdquo\; Join the Music Department as Downes presents Sounds Like America.
LOCATION:Southwestern University's Alma Thomas Theater\, E. Rutersville Rd\, Georgetown\, TX\, 78626
UID:e.2123.9563
SEQUENCE:3
DTSTAMP:20260421T144904Z
URL:https://laketravischamberfest.com/events/details/sarofim-music-series-lara-downes-piano-9563
END:VEVENT

END:VCALENDAR
