BEGIN:VCALENDAR
VERSION:2.0
PRODID:-//ChamberMaster//Event Calendar 2.0//EN
METHOD:PUBLISH
X-PUBLISHED-TTL:P3D
REFRESH-INTERVAL:P3D
CALSCALE:GREGORIAN
BEGIN:VEVENT
DTSTART:20180328T003000Z
DTEND:20180328T023000Z
X-MICROSOFT-CDO-ALLDAYEVENT:FALSE
SUMMARY:Sarofim Music Series: Coleman Itzkoff\, piano
DESCRIPTION:Hailed by the Los Angeles Times for his "astonishing prowess\," cellist Coleman Itzkoff enjoys a diverse career as a soloist\, chamber & orchestral musician\, and educator. Coleman has been awarded prestigious accolades from across the country\, including the Gold Medal in the 2017 International Berliner Music Competition. He was invited for an artist residency with NPR's Performance Today with host Fred Child. An avid chamber musician as well\, Coleman has collaborated with artists such as Midori\, John O'Connor\, Richey Hawley\, amongst others that have garnered him great success.
X-ALT-DESC;FMTTYPE=text/html:Hailed by the Los Angeles Times for his &ldquo\;astonishing prowess\,&rdquo\; cellist Coleman Itzkoff enjoys a diverse career as a soloist\, chamber &amp\; orchestral musician\, and educator. Coleman has been awarded prestigious accolades from across the country\, including the Gold Medal in the 2017 International Berliner Music Competition. He was invited for an artist residency with NPR&rsquo\;s Performance Today with host Fred Child. An avid chamber musician as well\, Coleman has collaborated with artists such as Midori\, John O&rsquo\;Connor\, Richey Hawley\, amongst others that have garnered him great success.
LOCATION:Southwestern University's Alma Thomas Theater\, E. Rutersville Rd\, Georgetown\, TX\, 78626
UID:e.2123.9568
SEQUENCE:3
DTSTAMP:20260421T144904Z
URL:https://laketravischamberfest.com/events/details/sarofim-music-series-coleman-itzkoff-piano-9568
END:VEVENT

END:VCALENDAR
