BEGIN:VCALENDAR
VERSION:2.0
PRODID:-//ChamberMaster//Event Calendar 2.0//EN
METHOD:PUBLISH
X-PUBLISHED-TTL:P3D
REFRESH-INTERVAL:P3D
CALSCALE:GREGORIAN
BEGIN:VEVENT
DTSTART:20180418T003000Z
DTEND:20180418T020000Z
X-MICROSOFT-CDO-ALLDAYEVENT:FALSE
SUMMARY:Sarofim Music Series: Adam Neiman\, piano
DESCRIPTION:Southwestern's Sarofim School of Fine Arts' Music Department presents Sarofim Music Series: Adam Neiman\, piano GRAMMY Award nominee Adam Neiman is hailed as one of the premiere pianists\, composers\, and entrepreneurs of his generation. With a distinguished international career and an encyclopedic repertoire that spans more than sixty concerti\, Neiman has performed as a soloist with many of the world's leading orchestras and conductors. An avid chamber musician\, Neiman makes frequent appearances at prestigious festivals across the globe\, and capped his tenure with a presentation of the complete chamber music of Johannes Brahms in a series of three concerts at Carnegie Hall.
X-ALT-DESC;FMTTYPE=text/html:Southwestern&rsquo\;s Sarofim School of Fine Arts&rsquo\; Music Department presents Sarofim Music Series: Adam Neiman\, piano GRAMMY Award nominee Adam Neiman is hailed as one of the premiere pianists\, composers\, and entrepreneurs of his generation. With a distinguished international career and an encyclopedic repertoire that spans more than sixty concerti\, Neiman has performed as a soloist with many of the world&rsquo\;s leading orchestras and conductors. An avid chamber musician\, Neiman makes frequent appearances at prestigious festivals across the globe\, and capped his tenure with a presentation of the complete chamber music of Johannes Brahms in a series of three concerts at Carnegie Hall.
LOCATION:Southwestern University's Alma Thomas Theater. 1001 E. University Avenue\, Georgetown\, TX 78626
UID:e.2123.9586
SEQUENCE:3
DTSTAMP:20260421T162323Z
URL:https://laketravischamberfest.com/events/details/sarofim-music-series-adam-neiman-piano-9586
END:VEVENT

END:VCALENDAR
