BEGIN:VCALENDAR
VERSION:2.0
PRODID:-//ChamberMaster//Event Calendar 2.0//EN
METHOD:PUBLISH
X-PUBLISHED-TTL:P3D
REFRESH-INTERVAL:P3D
CALSCALE:GREGORIAN
BEGIN:VEVENT
DTSTART:20180202T013000Z
DTEND:20180202T033000Z
X-MICROSOFT-CDO-ALLDAYEVENT:FALSE
SUMMARY:Sarofim Music Series: A Secret Tone: Music of Beethoven and Schumann
DESCRIPTION:The Southwestern University Sarofim School of Fine Arts' Music Department is thrilled to welcome baritone Daniel Hunter-Holly and pianist Kenneth Saxon as they perform A Secret Tone: Music of Beethoven & Schumann to begin the Spring semester of the Sarofim Music Series. Come enjoy an evening filled with classical music performed by this exceptional duo.
X-ALT-DESC;FMTTYPE=text/html:The Southwestern University Sarofim School of Fine Arts&rsquo\; Music Department is thrilled to welcome baritone Daniel Hunter-Holly and pianist Kenneth Saxon as they perform A Secret Tone: Music of Beethoven &amp\; Schumann to begin the Spring semester of the Sarofim Music Series. Come enjoy an evening filled with classical music performed by this exceptional duo.
LOCATION:Southwestern University's Caldwell-Carvey Foyer\, E. Ruttersville Dr\, Georgetown\, TX\, 78626.
UID:e.2123.9548
SEQUENCE:3
DTSTAMP:20260421T145225Z
URL:https://laketravischamberfest.com/events/details/sarofim-music-series-a-secret-tone-music-of-beethoven-and-schumann-9548
END:VEVENT

END:VCALENDAR
