BEGIN:VCALENDAR
VERSION:2.0
PRODID:-//ChamberMaster//Event Calendar 2.0//EN
METHOD:PUBLISH
X-PUBLISHED-TTL:P3D
REFRESH-INTERVAL:P3D
CALSCALE:GREGORIAN
BEGIN:VEVENT
DTSTART:20191026T170000Z
DTEND:20191026T200000Z
X-MICROSOFT-CDO-ALLDAYEVENT:FALSE
SUMMARY:Rough Hollow's Annual Oktoberfest
DESCRIPTION:Join us at Rough Hollow's annual Oktoberfest event for food\, fun and family activities throughout our 22 neighborhoods. Tour up to 10 models homes and see our award-winning amenities. Oktoberfest is FREE and open to the public. Stop by our Welcome Center at 903 Highlands Blvd to register and pickup your map of activities between noon and 3 PM. Voted Austin's Best Master-Planned Community Two Years in a Row\, Rough Hollow offers Semi-Custom & Custom Homes from the $300s to $3 Million+ on Lake Travis. Food   Drinks   Model Home Tours Giveaways   Live Entertainment
X-ALT-DESC;FMTTYPE=text/html:Join us at Rough Hollow&rsquo\;s annual Oktoberfest event for food\, fun and family activities throughout our 22 neighborhoods. Tour up to 10 models homes and see our award-winning amenities. Oktoberfest is FREE and open to the public. Stop by our Welcome Center at 903 Highlands Blvd to register and pickup your map of activities between noon and 3 PM. Voted Austin&rsquo\;s Best Master-Planned Community Two Years in a Row\, Rough Hollow offers Semi-Custom &amp\; Custom Homes from the $300s to $3 Million+ on Lake Travis. Food &bull\; Drinks &bull\; Model Home Tours Giveaways &bull\; Live Entertainment
LOCATION:Rough Hollow Lakeway 903 Highlands Blvd. Lakeway\, TX 78738
UID:e.2123.10007
SEQUENCE:3
DTSTAMP:20260422T194755Z
URL:https://laketravischamberfest.com/events/details/rough-hollow-s-annual-oktoberfest-10007
END:VEVENT

END:VCALENDAR
