BEGIN:VCALENDAR
VERSION:2.0
PRODID:-//ChamberMaster//Event Calendar 2.0//EN
METHOD:PUBLISH
X-PUBLISHED-TTL:P3D
REFRESH-INTERVAL:P3D
CALSCALE:GREGORIAN
BEGIN:VEVENT
DTSTART:20181006T160000Z
DTEND:20181102T233000Z
X-MICROSOFT-CDO-ALLDAYEVENT:FALSE
SUMMARY:Rosita y Conchita
DESCRIPTION:ROSITA Y CONCHITA: a D a de los Muertos Play in English and Spanish This winner of four B. Iden Payne awards is back by popular demand! Two sisters try to reunite on the Day of the Dead. Along the way Rosita keeps getting lost\, but she miraculously finds her way to Conchita through familiar sounds\, sights\, and smells. Kids of all ages will love the rhyming bilingual dialogue and touching images. Based on the award-winning children's book Rosita y Conchita by Erich Haeger and Eric Gonz lez. Featuring live son jarocho music! En esta adaptaci n imaginativa del libro infantil Rosita y Conchita de Erich Haeger y Eric Gonz lez\, dos hermanas tratan de reunirse en el d a de los muertos. A lo largo del camino Rosita se sigue perdiendo\, pero milagrosamente encuentra su camino a Conchita a trav s de sonidos y im genes familiares. Esta conmovedora historia llega a la vida con m sica en vivo inspirada por son jarocho por Son Armado\, actores profesionales y t teres. Todas las edades se disfrutar n el di logo biling e y las im genes impresionantes.
X-ALT-DESC;FMTTYPE=text/html:ROSITA Y CONCHITA: a D&iacute\;a de los Muertos Play in English and Spanish This winner of four B. Iden Payne awards is back by popular demand! Two sisters try to reunite on the Day of the Dead. Along the way Rosita keeps getting lost\, but she miraculously finds her way to Conchita through familiar sounds\, sights\, and smells. Kids of all ages will love the rhyming bilingual dialogue and touching images. Based on the award-winning children&rsquo\;s book Rosita y Conchita by Erich Haeger and Eric Gonz&aacute\;lez. Featuring live son jarocho music! En esta adaptaci&oacute\;n imaginativa del libro infantil Rosita y Conchita de Erich Haeger y Eric Gonz&aacute\;lez\, dos hermanas tratan de reunirse en el d&iacute\;a de los muertos. A lo largo del camino Rosita se sigue perdiendo\, pero milagrosamente encuentra su camino a Conchita a trav&eacute\;s de sonidos y im&aacute\;genes familiares. Esta conmovedora historia llega a la vida con m&uacute\;sica en vivo inspirada por son jarocho por Son Armado\, actores profesionales y t&iacute\;teres. Todas las edades se disfrutar&aacute\;n el di&aacute\;logo biling&uuml\;e y las im&aacute\;genes impresionantes.
LOCATION:Austin Scottish Rite Theater
UID:e.2123.9712
SEQUENCE:3
DTSTAMP:20260422T024431Z
URL:https://laketravischamberfest.com/events/details/rosita-y-conchita-9712
END:VEVENT

END:VCALENDAR
