BEGIN:VCALENDAR
VERSION:2.0
PRODID:-//ChamberMaster//Event Calendar 2.0//EN
METHOD:PUBLISH
X-PUBLISHED-TTL:P3D
REFRESH-INTERVAL:P3D
CALSCALE:GREGORIAN
BEGIN:VEVENT
DTSTART:20191012T160000Z
DTEND:20191102T170000Z
X-MICROSOFT-CDO-ALLDAYEVENT:FALSE
SUMMARY:Rosita y Conchita
DESCRIPTION:Back by popular demand! Twin sisters try to reunite on the Day of the Dead. Along the way Rosita keeps getting lost\, but she miraculously finds her way to Conchita through familiar sounds\, sights and smells. Kids of all ages will love the rhyming bilingual dialogue and touching images.
X-ALT-DESC;FMTTYPE=text/html:Back by popular demand! Twin sisters try to reunite on the Day of the Dead.&nbsp\;Along the way Rosita keeps getting lost\, but she miraculously finds her way to Conchita through familiar sounds\, sights and smells. Kids of all ages will love the rhyming bilingual dialogue and touching images.
LOCATION:Austin Scottish Rite Theater 207 W 18th St.\, Austin\, TX 78701
UID:e.2123.9987
SEQUENCE:3
DTSTAMP:20260422T194915Z
URL:https://laketravischamberfest.com/events/details/rosita-y-conchita-10-12-2019-9987
END:VEVENT

END:VCALENDAR
