BEGIN:VCALENDAR
VERSION:2.0
PRODID:-//ChamberMaster//Event Calendar 2.0//EN
METHOD:PUBLISH
X-PUBLISHED-TTL:P3D
REFRESH-INTERVAL:P3D
CALSCALE:GREGORIAN
BEGIN:VEVENT
DTSTART:20230401T180000Z
DTEND:20230403T020000Z
X-MICROSOFT-CDO-ALLDAYEVENT:FALSE
SUMMARY:Rock of Ages: Teen Edition
DESCRIPTION:Rock of Ages: Teen Edition takes you back to the times of big bands with big egos playing big guitar solos and sporting even bigger hair! This Tony Award-nominated Broadway musical features the hits of bands including Night Ranger\, REO Speedwagon\, Pat Benatar\, Twisted Sister and others. Performances will be live and in the TexARTS Kam & James Morris Theater. April 1 & 2 at 1:00pm and 6:00pm
X-ALT-DESC;FMTTYPE=text/html:Rock of Ages: Teen Edition takes you back to the times of big bands with big egos playing big guitar solos and sporting even bigger hair! This Tony Award-nominated Broadway musical features the hits of bands including Night Ranger\, REO Speedwagon\, Pat Benatar\, Twisted Sister and others. Performances will be live and in the TexARTS Kam &amp\; James Morris Theater. April 1 &amp\; 2 at 1:00pm and 6:00pm
LOCATION:TexARTS Association
UID:e.2123.11719
SEQUENCE:3
DTSTAMP:20260423T083318Z
URL:https://laketravischamberfest.com/events/details/rock-of-ages-teen-edition-11719
END:VEVENT

END:VCALENDAR
