BEGIN:VCALENDAR
VERSION:2.0
PRODID:-//ChamberMaster//Event Calendar 2.0//EN
METHOD:PUBLISH
X-PUBLISHED-TTL:P3D
REFRESH-INTERVAL:P3D
CALSCALE:GREGORIAN
BEGIN:VEVENT
DTSTART:20220907T210000Z
DTEND:20220908T000000Z
X-MICROSOFT-CDO-ALLDAYEVENT:FALSE
SUMMARY:RM Aesthetics Ribbon Cutting
DESCRIPTION:Join us for the RM Aesthetics ribbon cutting in welcoming this business to our community!
X-ALT-DESC;FMTTYPE=text/html:Join us for the RM Aesthetics ribbon cutting in welcoming this business to our community!&nbsp\;
LOCATION:Todd Moore 1310 Rr 620 S Ste B4 Lakeway\, TX 78734
UID:e.2123.11149
SEQUENCE:3
DTSTAMP:20260423T183731Z
URL:https://laketravischamberfest.com/events/details/rm-aesthetics-ribbon-cutting-11149
END:VEVENT

END:VCALENDAR
