BEGIN:VCALENDAR
VERSION:2.0
PRODID:-//ChamberMaster//Event Calendar 2.0//EN
METHOD:PUBLISH
X-PUBLISHED-TTL:P3D
REFRESH-INTERVAL:P3D
CALSCALE:GREGORIAN
BEGIN:VEVENT
DTSTART:20190518T140000Z
DTEND:20190518T200000Z
X-MICROSOFT-CDO-ALLDAYEVENT:FALSE
SUMMARY:Ride for the Badge
DESCRIPTION:Join us for the annual Ride for the Badger to honor and support all Law Enforcement Officers. Brought to you by the Lakeway Police Foundation and the Blue Knights Texas 13. Ride will begin at High 5 KSU 9:30am and continue to the Texas Ranger Heritage Center in Fredericksburg Former Texas Rangers Association and Foundation - Fredericksburg Tx Registration Includes Pre-Ride Breakfast and BBQ Lunch\, Swag Bag and T-shirt!
X-ALT-DESC;FMTTYPE=text/html:Join us for the annual Ride for the Badger to honor and support all Law Enforcement Officers. Brought to you by the Lakeway Police Foundation and the Blue Knights Texas 13. Ride will begin at High 5 KSU 9:30am and continue to the Texas Ranger Heritage Center in Fredericksburg Former Texas Rangers Association and Foundation - Fredericksburg Tx Registration Includes Pre-Ride Breakfast and BBQ Lunch\, Swag Bag and T-shirt!
LOCATION:High 5 1502 Ranch Rd 620 S\, Lakeway\, TX 78734
UID:e.2123.9842
SEQUENCE:3
DTSTAMP:20260422T121535Z
URL:https://laketravischamberfest.com/events/details/ride-for-the-badge-9842
END:VEVENT

END:VCALENDAR
