BEGIN:VCALENDAR
VERSION:2.0
PRODID:-//ChamberMaster//Event Calendar 2.0//EN
METHOD:PUBLISH
X-PUBLISHED-TTL:P3D
REFRESH-INTERVAL:P3D
CALSCALE:GREGORIAN
BEGIN:VEVENT
DTSTART:20190521T223000Z
DTEND:20190521T233000Z
X-MICROSOFT-CDO-ALLDAYEVENT:FALSE
SUMMARY:Ribbon Cutting for Woof Gang Bakery
DESCRIPTION:
X-ALT-DESC;FMTTYPE=text/html:
LOCATION:Woof Gang Bakery\, 3500 Ranch Road 620 S\, Ste. B 200\, Bee cave 78738 Map
UID:e.2123.9895
SEQUENCE:3
DTSTAMP:20260422T122403Z
URL:https://laketravischamberfest.com/events/details/ribbon-cutting-for-woof-gang-bakery-9895
END:VEVENT

END:VCALENDAR
