BEGIN:VCALENDAR
VERSION:2.0
PRODID:-//ChamberMaster//Event Calendar 2.0//EN
METHOD:PUBLISH
X-PUBLISHED-TTL:P3D
REFRESH-INTERVAL:P3D
CALSCALE:GREGORIAN
BEGIN:VEVENT
DTSTART:20191024T223000Z
DTEND:20191024T233000Z
X-MICROSOFT-CDO-ALLDAYEVENT:FALSE
SUMMARY:Ribbon Cutting for Texas Orthopedics & Lakeway Medical Village
DESCRIPTION:Please Join Us!
X-ALT-DESC;FMTTYPE=text/html:Please Join Us!<br />\n<br />\n&nbsp\;
LOCATION:Lakeway Medical Village/Texas Orthopedics Lakeway Medical Plaza 101 Medical Parkway Ste 120 Lakeway\, TX 78738
UID:e.2123.9963
SEQUENCE:3
DTSTAMP:20260422T195109Z
URL:https://laketravischamberfest.com/events/details/ribbon-cutting-for-texas-orthopedics-lakeway-medical-village-9963
END:VEVENT

END:VCALENDAR
