BEGIN:VCALENDAR
VERSION:2.0
PRODID:-//ChamberMaster//Event Calendar 2.0//EN
METHOD:PUBLISH
X-PUBLISHED-TTL:P3D
REFRESH-INTERVAL:P3D
CALSCALE:GREGORIAN
BEGIN:VEVENT
DTSTART:20230601T150000Z
DTEND:20230601T163000Z
X-MICROSOFT-CDO-ALLDAYEVENT:FALSE
SUMMARY:Ribbon Cutting for Covert Bee Cave
DESCRIPTION:Join us for a ribbon cutting in honor Covert Bee Cave.  Come see their new beautiful facility and meet the Covert Bee Cave team. This event is for members and future members alike!
X-ALT-DESC;FMTTYPE=text/html:<br />\n<span style="font-size:16px\;"><span style="font-family:arial\;"><strong>Join us for a ribbon cutting in honor <font color="#222222"><span style="caret-color: rgb(34\, 34\, 34)\;">Covert Bee Cave.&nbsp\; Come see their new beautiful facility and meet the Covert Bee Cave team. This event is for members and future&nbsp\;members alike!&nbsp\;</span></font></strong></span></span>
LOCATION:Covert Bee Cave: 16501 Sweetwater Village Dr. Building 1\, Austin\, TX 78738 Building One (Buick GMC) 10:00 AM Building Two (Cadillac) 10:30 AM Building Three (Chrysler\, Dodge\, Jeep & RAM) 11:00 AM
UID:e.2123.11741
SEQUENCE:3
DTSTAMP:20260423T040602Z
URL:https://laketravischamberfest.com/events/details/ribbon-cutting-for-covert-bee-cave-11741
END:VEVENT

END:VCALENDAR
