BEGIN:VCALENDAR
VERSION:2.0
PRODID:-//ChamberMaster//Event Calendar 2.0//EN
METHOD:PUBLISH
X-PUBLISHED-TTL:P3D
REFRESH-INTERVAL:P3D
CALSCALE:GREGORIAN
BEGIN:VEVENT
DTSTART:20190430T193000Z
DTEND:20190430T203000Z
X-MICROSOFT-CDO-ALLDAYEVENT:FALSE
SUMMARY:Resume Workshop
DESCRIPTION:Resume Workshop - Tuesday\, April 30th at 2:30pm - Bring your resume to an interactive workshop led by Opal Berry from Texas Workforce Solutions. Take advantage of expert tips and feedback to advance your job search.
X-ALT-DESC;FMTTYPE=text/html:Resume Workshop - Tuesday\, April 30th at 2:30pm - Bring your resume to an interactive workshop led by Opal Berry from Texas Workforce Solutions. Take advantage of expert tips and feedback to advance your job search.
LOCATION:Lake Travis Community Library 1938 Lohmans Crossing Austin\, Texas 78734
UID:e.2123.9858
SEQUENCE:3
DTSTAMP:20260422T104644Z
URL:https://laketravischamberfest.com/events/details/resume-workshop-9858
END:VEVENT

END:VCALENDAR
