BEGIN:VCALENDAR
VERSION:2.0
PRODID:-//ChamberMaster//Event Calendar 2.0//EN
METHOD:PUBLISH
X-PUBLISHED-TTL:P3D
REFRESH-INTERVAL:P3D
CALSCALE:GREGORIAN
BEGIN:VEVENT
DTSTART:20180328T173000Z
DTEND:20180328T190000Z
X-MICROSOFT-CDO-ALLDAYEVENT:FALSE
SUMMARY:Representations Lecture Series featuring Dr. Dana Long Zenobi
DESCRIPTION:The Southwestern University Sarofim School of Fine Arts welcomes Visiting Assistant Professor of Music Dr. Dana Long Zenobi to present in the Representations Lecture Series. David Utterback of the music department will accompany Dr. Zenobi. Representations\, a brown bag lecture series that features current and upcoming research by Southwestern University faculty whose focus is on representations in art and culture. The lectures are short conference-style papers followed by questions\, and they are to serve as a model for students on how to conduct formal presentations in their respective fields.
X-ALT-DESC;FMTTYPE=text/html:The Southwestern University Sarofim School of Fine Arts welcomes Visiting Assistant Professor of Music Dr. Dana Long Zenobi to present in the Representations Lecture Series. David Utterback of the music department will accompany Dr. Zenobi. Representations\, a brown bag lecture series that features current and upcoming research by Southwestern University faculty whose focus is on representations in art and culture. The lectures are short conference-style papers followed by questions\, and they are to serve as a model for students on how to conduct formal presentations in their respective fields.
LOCATION:Southwestern University's Caldwell-Carvey Foyer\, E. Rutersville Rd\, Georgetown\, TX\, 78626
UID:e.2123.9569
SEQUENCE:3
DTSTAMP:20260421T144514Z
URL:https://laketravischamberfest.com/events/details/representations-lecture-series-featuring-dr-dana-long-zenobi-9569
END:VEVENT

END:VCALENDAR
