BEGIN:VCALENDAR
VERSION:2.0
PRODID:-//ChamberMaster//Event Calendar 2.0//EN
METHOD:PUBLISH
X-PUBLISHED-TTL:P3D
REFRESH-INTERVAL:P3D
CALSCALE:GREGORIAN
BEGIN:VEVENT
DTSTART:20180220T181500Z
DTEND:20180220T201500Z
X-MICROSOFT-CDO-ALLDAYEVENT:FALSE
SUMMARY:Representations Lecture Series featuring Dr. Catherine B. Ross
DESCRIPTION:The Southwestern University Sarofim School of Fine Arts welcomes Professor of Spanish Dr. Catherine B. Ross to present in the Representations Lecture Series. Representations\, a brown bag lecture series that features current and upcoming research by Southwestern University faculty whose focus is on representations in art and culture. The lectures are short conference-style papers followed by questions\, and they are to serve as a model for students on how to conduct formal presentations in their respective fields.
X-ALT-DESC;FMTTYPE=text/html:The Southwestern University Sarofim School of Fine Arts welcomes Professor of Spanish Dr. Catherine B. Ross to present in the Representations Lecture Series. Representations\, a brown bag lecture series that features current and upcoming research by Southwestern University faculty whose focus is on representations in art and culture. The lectures are short conference-style papers followed by questions\, and they are to serve as a model for students on how to conduct formal presentations in their respective fields.
LOCATION:Southwestern University's Alma Thomas Fine Arts Center\, Room 235\, E. Ruttersville Dr\, Georgetown\, TX\, 78626.
UID:e.2123.9553
SEQUENCE:3
DTSTAMP:20260421T131801Z
URL:https://laketravischamberfest.com/events/details/representations-lecture-series-featuring-dr-catherine-b-ross-9553
END:VEVENT

END:VCALENDAR
