BEGIN:VCALENDAR
VERSION:2.0
PRODID:-//ChamberMaster//Event Calendar 2.0//EN
METHOD:PUBLISH
X-PUBLISHED-TTL:P3D
REFRESH-INTERVAL:P3D
CALSCALE:GREGORIAN
BEGIN:VEVENT
DTSTART:20180930T200000Z
DTEND:20180930T220000Z
X-MICROSOFT-CDO-ALLDAYEVENT:FALSE
SUMMARY:RED WHITE & BLUE Wave Rally
DESCRIPTION:Come one\, come all to hear from the Democratic Ticket in Texas! ALL political affiliations are welcome! Our candidates have compelling stories to tell and are uniquely qualified to lead Texas with a vision of unity\, health and prosperity for all Texans to enjoy. This year we are poised to take back Congress\, a Texas House seat\, and now even flip Ted Cruz's Senate seat! Beto O'Rourke is leading the charge throughout our state and ALL of our down ballot candidates are as compelling and fantastic as he is. We are blessed\, people! Sunday\, September 30th FROM 3-5pm at the Lakeway Activity Center 3300 Cross Creek\, Lakeway\, TX to hear messages from our very inspiring candidates: US House of Representatives Texas 25th District: Julie Oliver Texas House of Representatives 47th District: Vikki Goodwin Lieutenant Governor: Mike Collier Attorney General: Justin Nelson Land Commissioner Miguel Suazo Agriculture Commissioner Kim Olson Many local judges and City Council as well BETO SIGNS and swag will be available as well as all candidate signage! Reception with musical specialties by the incomparable Leeann Atherton to start promptly at 3:00pm. Brought to you by Western Travis Democrats\, Lake Travis Democrats\, Tuscan Village Voters\, TX25 Indivisible We Stand & Lake Travis Progressives
X-ALT-DESC;FMTTYPE=text/html:Come one\, come all to hear from the Democratic Ticket in Texas! ALL political affiliations are welcome! Our candidates have compelling stories to tell and are uniquely qualified to lead Texas with a vision of unity\, health and prosperity for all Texans to enjoy. This year we are poised to take back Congress\, a Texas House seat\, and now even flip Ted Cruz&rsquo\;s Senate seat! Beto O&rsquo\;Rourke is leading the charge throughout our state and ALL of our down ballot candidates are as compelling and fantastic as he is. We are blessed\, people! Sunday\, September 30th FROM 3-5pm at the Lakeway Activity Center 3300 Cross Creek\, Lakeway\, TX to hear messages from our very inspiring candidates: US House of Representatives Texas 25th District: Julie Oliver Texas House of Representatives 47th District: Vikki Goodwin Lieutenant Governor: Mike Collier Attorney General: Justin Nelson Land Commissioner Miguel Suazo Agriculture Commissioner Kim Olson Many local judges and City Council as well BETO SIGNS and swag will be available as well as all candidate signage! Reception with musical specialties by the incomparable Leeann Atherton to start promptly at 3:00pm. Brought to you by Western Travis Democrats\, Lake Travis Democrats\, Tuscan Village Voters\, TX25 Indivisible We Stand &amp\; Lake Travis Progressives
LOCATION:Lakeway Activity Center 105 Cross Creek Lakeway Blvd.
UID:e.2123.9718
SEQUENCE:3
DTSTAMP:20260422T010605Z
URL:https://laketravischamberfest.com/events/details/red-white-blue-wave-rally-9718
END:VEVENT

END:VCALENDAR
