BEGIN:VCALENDAR
VERSION:2.0
PRODID:-//ChamberMaster//Event Calendar 2.0//EN
METHOD:PUBLISH
X-PUBLISHED-TTL:P3D
REFRESH-INTERVAL:P3D
CALSCALE:GREGORIAN
BEGIN:VEVENT
DTSTART:20190225T003000Z
DTEND:20190225T050000Z
X-MICROSOFT-CDO-ALLDAYEVENT:FALSE
SUMMARY:Red Carpet Watch Party
DESCRIPTION:Lakeway\, TX--The Lake Travis Film Festival is hosting a RED CARPET WATCH PARTY for the The 91st Academy Awards ceremony\, honoring the best films of 2018. Sunday\, February 24\, 2019. The event will take place at the TR Restaurant Bar and Lounge located in the Lakeway Inn and Resort at 101 Lakeway Drive in Lakeway\, TX. Get your photo taken in front of our back drop on the red carpet starting at 6:30 pm. Sip custom craft cocktails\, and bid on silent auction baskets\, while you guess the winners. Tickets are just $15 and are available online at www.laketravisfilmfestival.com or at Eventbrite\, https://www.eventbrite.com/e/red-carpet-watch-party-tickets-55843621776 The most recent information will always be on our Facebook page at https://www.facebook.com/LTFF78738/ Appetizers included and a cash bar.
X-ALT-DESC;FMTTYPE=text/html:Lakeway\, TX--The Lake Travis Film Festival is hosting a RED CARPET WATCH PARTY for the The 91st Academy Awards ceremony\, honoring the best films of 2018. Sunday\, February 24\, 2019. The event will take place at the TR Restaurant Bar and Lounge located in the Lakeway Inn and Resort at 101 Lakeway Drive in Lakeway\, TX. Get your photo taken in front of our back drop on the red carpet starting at 6:30 pm. Sip custom craft cocktails\, and bid on silent auction baskets\, while you guess the winners. Tickets are just $15 and are available online at www.laketravisfilmfestival.com or at Eventbrite\, https://www.eventbrite.com/e/red-carpet-watch-party-tickets-55843621776 The most recent information will always be on our Facebook page at https://www.facebook.com/LTFF78738/ Appetizers included and a cash bar.
LOCATION:TR Restaurant Bar and Lounge located in the Lakeway Inn and Resort at 101 Lakeway Drive in Lakeway\, TX.
UID:e.2123.9832
SEQUENCE:3
DTSTAMP:20260422T072105Z
URL:https://laketravischamberfest.com/events/details/red-carpet-watch-party-9832
END:VEVENT

END:VCALENDAR
