BEGIN:VCALENDAR
VERSION:2.0
PRODID:-//ChamberMaster//Event Calendar 2.0//EN
METHOD:PUBLISH
X-PUBLISHED-TTL:P3D
REFRESH-INTERVAL:P3D
CALSCALE:GREGORIAN
BEGIN:VEVENT
DTSTART:20200605T100000Z
DTEND:20200605T130000Z
X-MICROSOFT-CDO-ALLDAYEVENT:FALSE
SUMMARY:RED Arena Wine-Up
DESCRIPTION:Come enjoy local music\, FREE hor'dourves & tastings from Westcave Cellars Winery & Treaty Oak Distillery while you shop the huge silent auction including: wine\, spirits\, shopping\, dining\, art\, camps\, Dooney & Burke\, Kendra Scott\, James Avery & the ultimate George Strait experience with VIP tickets AND a meet & greet!  You can even meet the therapy horses and learn about the amazing work they do. Rider and 5k/10 Packet Pick-Up.  http://www.redarena.org/round-up.html
X-ALT-DESC;FMTTYPE=text/html:<span style="color:rgb(29\, 33\, 41)\; font-family:arial\,sans-serif\; font-size:13.3333px">Come enjoy local music\, FREE hor&#39\;dourves &amp\; tastings from Westcave Cellars Winery &amp\; Treaty Oak Distillery while you shop the huge silent auction including: wine\, spirits\, shopping\, dining\, art\, camps\, Dooney &amp\; Burke\, Kendra Scott\, James Avery &amp\; the ultimate George Strait experience with VIP tickets AND a meet &amp\; greet!&nbsp\;&nbsp\;You can even meet the therapy horses and learn about the amazing work they do. Rider and 5k/10 Packet Pick-Up.&nbsp\;&nbsp\;</span><a href="http://www.redarena.org/round-up.html" style="color: blue\; font-family: &quot\;Times New Roman&quot\;\, serif\; font-size: 13.3333px\; background-color: rgb(255\, 255\, 255)\;" target="_blank"><span style="font-family:arial\,sans-serif">http://www.redarena.org/round-up.html</span></a>
LOCATION:Dripping Springs Ranch Park 1042 Event Center Dr\, Dripping Springs\, TX 78620
UID:e.2123.9645
SEQUENCE:3
DTSTAMP:20260423T072904Z
URL:https://laketravischamberfest.com/events/details/red-arena-wine-up-06-05-2020-9645
END:VEVENT

END:VCALENDAR
