BEGIN:VCALENDAR
VERSION:2.0
PRODID:-//ChamberMaster//Event Calendar 2.0//EN
METHOD:PUBLISH
X-PUBLISHED-TTL:P3D
REFRESH-INTERVAL:P3D
CALSCALE:GREGORIAN
BEGIN:VEVENT
DTSTART:20190218T210000Z
DTEND:20190218T220000Z
X-MICROSOFT-CDO-ALLDAYEVENT:FALSE
SUMMARY:Real World Finance 101
DESCRIPTION:Real World Finance 101 - Monday\, February 18th at 3pm - This class will discuss how banks make money\, credit card usage\, buying vs. leasing cars\, credit scores\, mortgages\, home equity lines of credit\, and more. Save money by spending more wisely!
X-ALT-DESC;FMTTYPE=text/html:Real World Finance 101 - Monday\, February 18th at 3pm - This class will discuss how banks make money\, credit card usage\, buying vs. leasing cars\, credit scores\, mortgages\, home equity lines of credit\, and more. Save money by spending more wisely!
LOCATION:Lake Travis Community Library 1938 Lohmans Crossing Austin\, Texas 78734
UID:e.2123.9817
SEQUENCE:3
DTSTAMP:20260422T072438Z
URL:https://laketravischamberfest.com/events/details/real-world-finance-101-9817
END:VEVENT

END:VCALENDAR
