BEGIN:VCALENDAR
VERSION:2.0
PRODID:-//ChamberMaster//Event Calendar 2.0//EN
METHOD:PUBLISH
X-PUBLISHED-TTL:P3D
REFRESH-INTERVAL:P3D
CALSCALE:GREGORIAN
BEGIN:VEVENT
DTSTART:20190209T170000Z
DTEND:20190303T180000Z
X-MICROSOFT-CDO-ALLDAYEVENT:FALSE
SUMMARY:Rap Unzel
DESCRIPTION:In this beautiful twist on the original 'Rapunzel' fairy tale\, a young man shows his community and family how to express their uniqueness and joy in the face of adversity.
X-ALT-DESC;FMTTYPE=text/html:In this beautiful twist on the original &#39\;Rapunzel&#39\; fairy tale\, a young man shows his community and family how to express their uniqueness and joy in the face of adversity.
LOCATION:207 W 18th St.\, Austin\, TX 78701
UID:e.2123.9809
SEQUENCE:3
DTSTAMP:20260422T073059Z
URL:https://laketravischamberfest.com/events/details/rap-unzel-9809
END:VEVENT

END:VCALENDAR
