BEGIN:VCALENDAR
VERSION:2.0
PRODID:-//ChamberMaster//Event Calendar 2.0//EN
METHOD:PUBLISH
X-PUBLISHED-TTL:P3D
REFRESH-INTERVAL:P3D
CALSCALE:GREGORIAN
BEGIN:VEVENT
DTSTART:20240923T170000Z
DTEND:20240923T180000Z
X-MICROSOFT-CDO-ALLDAYEVENT:FALSE
SUMMARY:Public Policy Committee Meeting
DESCRIPTION:Lake Travis Chamber   Public Policy Committee Meeting   \n\n\n\nInterested in learning more about the Public Policy Committee and want to make a difference in our community?\n\n \n\njoin us for our next Lake Travis Chamber Public Policy Committee meeting on Monday\, September 23rd\, from noon to 1 PM. \n\n \n\nYour voice is essential!  The meeting is at the Belmont Village Senior Living   Meeting Room\, located at 107 Bella Montagna Circle in Lakeway.\n\n\n\nAs we embrace the Fall season\, your insights and priorities will shape our community's future. This meeting is your opportunity to influence the agenda for the coming year\, ensuring that our focus aligns with what matters most to you.\n\n\n\nWe face critical issues in our business community\, such as transportation\, water availability\, workforce housing\, economic development\, and education. Your participation is crucial in prioritizing these key issues and safeguarding our collective interests.\n\n\n\nPlease let us know if you can join by RSVPing to mikep@mobilevideo360.com.\n\n \n\nWe look forward to your valuable contributions!\n\n \n\nBest regards\,\n\n \n\nMichael Paule\n\nChair   Lake Travis Chamber Public Policy Committee
X-ALT-DESC;FMTTYPE=text/html:<strong>Lake Travis Chamber &ndash\; Public Policy Committee Meeting &ndash\;&nbsp\;</strong><br />\n<br />\nInterested in learning more about the Public Policy Committee and want to make a difference in our community?<br />\n&nbsp\;<br />\njoin us for our next Lake Travis Chamber Public Policy Committee meeting&nbsp\;<span dir="ltr">on Monday\, September 23rd\, from noon to 1 PM</span>.&nbsp\;<br />\n&nbsp\;<br />\nYour voice is essential!&nbsp\; The meeting is at the Belmont Village Senior Living &ndash\; Meeting Room\, located at&nbsp\;<a href="https://urldefense.proofpoint.com/v2/url?u=https-3A__www.google.com_maps_search_107-2BBella-2BMontagna-2BCircle-3Fentry-3Dgmail-26source-3Dg&amp\;d=DwMFaQ&amp\;c=euGZstcaTDllvimEN8b7jXrwqOf-v5A_CdpgnVfiiMM&amp\;r=DHysbMoqZFYcl3xnOGV8m_DRveuaHPfS9Z2OqgKHgS0&amp\;m=B-WmrYM8O8_ihP6Zbs7aDQkjr3Vu_aqrMvWTFpy9ouhVmdkCCblB4OljvPXBjBCb&amp\;s=ryGg_W_20YCtFMqn4TkLEoL6iYe6Im2fxg_mIvYK5J0&amp\;e=" target="_blank" title="https://urldefense.proofpoint.com/v2/url?u=https-3A__www.google.com_maps_search_107-2BBella-2BMontagna-2BCircle-3Fentry-3Dgmail-26source-3Dg&amp\;d=DwMFaQ&amp\;c=euGZstcaTDllvimEN8b7jXrwqOf-v5A_CdpgnVfiiMM&amp\;r=DHysbMoqZFYcl3xnOGV8m_DRveuaHPfS9Z2OqgKHgS0&amp\;m=B-WmrYM8O8_">107 Bella Montagna Circle</a>&nbsp\;in Lakeway.<br />\n<br />\nAs we embrace the Fall season\, your insights and priorities will shape our community&#39\;s future. This meeting is your opportunity to influence the agenda for the coming year\, ensuring that our focus aligns with what matters most to you.<br />\n<br />\nWe face critical issues in our business community\, such as transportation\, water availability\, workforce housing\, economic development\, and education. Your participation is crucial in prioritizing these key issues and safeguarding our collective interests.<br />\n<br />\nPlease let us know if you can join by RSVPing to&nbsp\;<a href="mailto:mikep@mobilevideo360.com" target="_blank">mikep@mobilevideo360.com</a>.<br />\n&nbsp\;<br />\nWe look forward to your valuable contributions!<br />\n&nbsp\;<br />\nBest regards\,<br />\n&nbsp\;<br />\nMichael Paule<br />\nChair &ndash\; Lake Travis Chamber Public Policy Committee<br />\n&nbsp\;
LOCATION:Belmont Village Senior Living Meeting Room\, located at 107 Bella Montagna Circle in Lakeway.
UID:e.2123.12743
SEQUENCE:3
DTSTAMP:20260422T060207Z
URL:https://laketravischamberfest.com/events/details/public-policy-committee-meeting-12743
END:VEVENT

END:VCALENDAR
