BEGIN:VCALENDAR
VERSION:2.0
PRODID:-//ChamberMaster//Event Calendar 2.0//EN
METHOD:PUBLISH
X-PUBLISHED-TTL:P3D
REFRESH-INTERVAL:P3D
CALSCALE:GREGORIAN
BEGIN:VEVENT
DTSTART:20181112T163000Z
DTEND:20181112T173000Z
X-MICROSOFT-CDO-ALLDAYEVENT:FALSE
SUMMARY:Preventing Golf Injuries
DESCRIPTION:Preventing Golf Injuries - Monday\, November 12th at 10:30am - This workshop presented by Body Balance Physical Therapy will give an overview of common golf related injuries with tips and strategies to help avoid them.
X-ALT-DESC;FMTTYPE=text/html:Preventing Golf Injuries - Monday\, November 12th at 10:30am - This workshop presented by Body Balance Physical Therapy will give an overview of common golf related injuries with tips and strategies to help avoid them.
LOCATION:Lake Travis Community Library 1938 Lohmans Crossing Austin\, Texas 78734
UID:e.2123.9742
SEQUENCE:3
DTSTAMP:20260422T024146Z
URL:https://laketravischamberfest.com/events/details/preventing-golf-injuries-9742
END:VEVENT

END:VCALENDAR
