BEGIN:VCALENDAR
VERSION:2.0
PRODID:-//ChamberMaster//Event Calendar 2.0//EN
METHOD:PUBLISH
X-PUBLISHED-TTL:P3D
REFRESH-INTERVAL:P3D
CALSCALE:GREGORIAN
BEGIN:VEVENT
DTSTART:20181201T170000Z
DTEND:20181215T180000Z
X-MICROSOFT-CDO-ALLDAYEVENT:FALSE
SUMMARY:Pippi Longstocking's After Christmas Party
DESCRIPTION:You're invited! Its Pippi's after-Christmas party\, where all the kids in the village are welcome\, and no grumpy grown-ups are allowed! Join Pippi and her friends Annika and Tommy on one of her over-the-top adventures where surprises\, cream cakes and new friends are around every corner! Just in time for the holidays\, this show offers live music and lots of playful action! Shows are at 11:00am and 1:00pm!
X-ALT-DESC;FMTTYPE=text/html:You&#39\;re invited! Its Pippi&#39\;s after-Christmas party\, where all the kids in the village are welcome\, and no grumpy grown-ups are allowed! Join Pippi and her friends Annika and Tommy on one of her over-the-top adventures where surprises\, cream cakes and new friends are around every corner! Just in time for the holidays\, this show offers live music and lots of playful action! Shows are at 11:00am and 1:00pm!
LOCATION:Austin Scottish Rite Theater 207 W18th St. Austin\, TX 78701
UID:e.2123.9751
SEQUENCE:3
DTSTAMP:20260422T043101Z
URL:https://laketravischamberfest.com/events/details/pippi-longstocking-s-after-christmas-party-9751
END:VEVENT

END:VCALENDAR
