BEGIN:VCALENDAR
VERSION:2.0
PRODID:-//ChamberMaster//Event Calendar 2.0//EN
METHOD:PUBLISH
X-PUBLISHED-TTL:P3D
REFRESH-INTERVAL:P3D
CALSCALE:GREGORIAN
BEGIN:VEVENT
DTSTART:20230219T050000Z
DTEND:20230312T190000Z
X-MICROSOFT-CDO-ALLDAYEVENT:FALSE
SUMMARY:Pippi Longstocking
DESCRIPTION:Pippi Longstocking is a scrappy 9-year-old little girl who asks a lot of questions and always put bullies in their place. Along with a horse on the porch\, a monkey in the kitchen and her best friends Tommy and Annika\, this freckle faced\, red-pigtailed\, whirlwind of a girl in mismatched stockings is a delight for both children and adults. Join Pippi and her friends as they indulge in a villa-full of zany antics!
X-ALT-DESC;FMTTYPE=text/html:Pippi Longstocking is a scrappy 9-year-old little girl who asks a lot of questions and always put bullies in their place. Along with a horse on the porch\, a monkey in the kitchen and her best friends Tommy and Annika\, this freckle faced\, red-pigtailed\, whirlwind of a girl in mismatched stockings is a delight for both children and adults. Join Pippi and her friends as they indulge in a villa-full of zany antics!
LOCATION:Austin Scottish Rite Theater 207 W 18th St. Austin\, TX 78701
UID:e.2123.11722
SEQUENCE:3
DTSTAMP:20260423T082607Z
URL:https://laketravischamberfest.com/events/details/pippi-longstocking-11722
END:VEVENT

END:VCALENDAR
