BEGIN:VCALENDAR
VERSION:2.0
PRODID:-//ChamberMaster//Event Calendar 2.0//EN
METHOD:PUBLISH
X-PUBLISHED-TTL:P3D
REFRESH-INTERVAL:P3D
CALSCALE:GREGORIAN
BEGIN:VEVENT
DTSTART:20210628T143000Z
DTEND:20210702T153000Z
X-MICROSOFT-CDO-ALLDAYEVENT:FALSE
SUMMARY:Pinkalicious Peterific Perform!
DESCRIPTION:Grab your red sweater and join Daniel Tiger and his friends for a "grr-ific" camp at TexARTS!  We'll sing and dance to some of the most popular songs from the hit children's TV series. TexARTS Mini Camps are the perfect introduction to musical theatre for the youngest of performers!  Students ages 2-4 will sing\, dance\, and play to songs by some of their favorite fictional characters.
X-ALT-DESC;FMTTYPE=text/html:Grab your red sweater and join Daniel Tiger and his friends for a &ldquo\;grr-ific&rdquo\; camp at TexARTS!&nbsp\; We&rsquo\;ll sing and dance to some of the most popular songs from the hit children&rsquo\;s TV series. TexARTS Mini Camps are the perfect introduction to musical theatre for the youngest of performers!&nbsp\; Students ages 2-4 will sing\, dance\, and play to songs by some of their favorite fictional characters.&nbsp\;&nbsp\;
LOCATION:TexARTS 2300 Lohman's Spur STE 160 Austin\, TX 78734
UID:e.2123.10906
SEQUENCE:3
DTSTAMP:20260424T012703Z
URL:https://laketravischamberfest.com/events/details/pinkalicious-peterific-perform-10906
END:VEVENT

END:VCALENDAR
