BEGIN:VCALENDAR
VERSION:2.0
PRODID:-//ChamberMaster//Event Calendar 2.0//EN
METHOD:PUBLISH
X-PUBLISHED-TTL:P3D
REFRESH-INTERVAL:P3D
CALSCALE:GREGORIAN
BEGIN:VEVENT
DTSTART:20180201T230000Z
DTEND:20180202T010000Z
X-MICROSOFT-CDO-ALLDAYEVENT:FALSE
SUMMARY:Phi Beta Kappa Visiting Scholar Program featuring Dr. Mary Miller
DESCRIPTION:Southwestern University's Phi Beta Kappa Society chapter is thrilled to welcome Dr. Mary Miller as part of the Visiting Scholar Program. The Sterling Professor of the History of Art and senior director of the Institute for the Preservation of Cultural Heritage at Yale University will present her lecture entitled Were they enslaved? Maya Figurines from Jaina Island and Beyond.
X-ALT-DESC;FMTTYPE=text/html:Southwestern University&rsquo\;s Phi Beta Kappa Society chapter is thrilled to welcome Dr. Mary Miller as part of the Visiting Scholar Program. The Sterling Professor of the History of Art and senior director of the Institute for the Preservation of Cultural Heritage at Yale University will present her lecture entitled Were they enslaved? Maya Figurines from Jaina Island and Beyond.
LOCATION:Southwestern University's F.W. Olin Building\, Room Olin 110\, 1001 E. University Ave\, Georgetown\, TX\, 78626.
UID:e.2123.9547
SEQUENCE:3
DTSTAMP:20260421T130818Z
URL:https://laketravischamberfest.com/events/details/phi-beta-kappa-visiting-scholar-program-featuring-dr-mary-miller-9547
END:VEVENT

END:VCALENDAR
